BEGIN:VCALENDAR
VERSION:2.0
PRODID:-//WOODSY - ECPv6.15.20//NONSGML v1.0//EN
CALSCALE:GREGORIAN
METHOD:PUBLISH
X-WR-CALNAME:WOODSY
X-ORIGINAL-URL:https://woodsy.llc
X-WR-CALDESC:Events for WOODSY
REFRESH-INTERVAL;VALUE=DURATION:PT1H
X-Robots-Tag:noindex
X-PUBLISHED-TTL:PT1H
BEGIN:VTIMEZONE
TZID:America/Halifax
BEGIN:DAYLIGHT
TZOFFSETFROM:-0400
TZOFFSETTO:-0300
TZNAME:ADT
DTSTART:20240310T060000
END:DAYLIGHT
BEGIN:STANDARD
TZOFFSETFROM:-0300
TZOFFSETTO:-0400
TZNAME:AST
DTSTART:20241103T050000
END:STANDARD
BEGIN:DAYLIGHT
TZOFFSETFROM:-0400
TZOFFSETTO:-0300
TZNAME:ADT
DTSTART:20250309T060000
END:DAYLIGHT
BEGIN:STANDARD
TZOFFSETFROM:-0300
TZOFFSETTO:-0400
TZNAME:AST
DTSTART:20251102T050000
END:STANDARD
BEGIN:DAYLIGHT
TZOFFSETFROM:-0400
TZOFFSETTO:-0300
TZNAME:ADT
DTSTART:20260308T060000
END:DAYLIGHT
BEGIN:STANDARD
TZOFFSETFROM:-0300
TZOFFSETTO:-0400
TZNAME:AST
DTSTART:20261101T050000
END:STANDARD
END:VTIMEZONE
BEGIN:VEVENT
DTSTART;TZID=America/Halifax:20250621T120000
DTEND;TZID=America/Halifax:20250621T170000
DTSTAMP:20260425T214018
CREATED:20250407T171517Z
LAST-MODIFIED:20250407T171757Z
UID:24941-1750507200-1750525200@woodsy.llc
SUMMARY:DBC Juneteenth Book Music Art Fair 2025
DESCRIPTION:This exciting one-day “OUTDOOR” event is for the entire family celebrating “FREEDOM” in the expression of books\, music\, art & spoken word. \nSpectators will shop over 40 Exhibitors — a fierce group of talented ‘neighborhood’ indie book authors\, artists and artisans i.e. books\, paintings\, music\, drawings\, ceramics\, clothing\, candles\, soaps\, skincare\, jewelry\, plants\, houseware and more! \nLIVE Storytelling:  Celebrated storytellers and spoken-word artists will share folktales from Africa and the African Diaspora that focus on Juneteenth ~ Intellectual Literacy = Freedom! Authors and attendees are invited to share their stories starting at 1:30pm. \nLIVE Music & Youth Marching Band: Enjoy old-school\, nostalgic music by DJ Holly and an enchanting afternoon with Inkster’s American International Academy – District Youth String Ensemble\, Hand Chime Choir and Marching Band! \nKIDZONE:  Juneteenth storytelling\, face-painting\, bookmarks\, silicone wristbands and FUN coloring activity. FREE ice cream! \nJuneteenth Souvenirs: T-shirts\, necklaces and books will be on sale. \nThe Commons Cafe:  Grab a bite to eat or drink at this wonderful neighborhood corner cafe! \nWe’re so excited to have you join us to celebrate and sell your gift(s) during the nation’s Juneteenth 2025!  We are about uplifting Black literature & The Arts right in the neighborhood.
URL:https://woodsy.llc/event/dbc-juneteenth-book-music-art-fair-2025/
LOCATION:The Commons – MACC Development\, 7900 Mack Ave\, Detroit\, MI\, 48214\, United States
CATEGORIES:Exhibitions
ATTACH;FMTTYPE=image/jpeg:https://woodsy.llc/wp-content/uploads/2025/04/dbc-juneteenth.jpg
ORGANIZER;CN="WOODSY%2C LLC.":MAILTO:info@woodsy.llc
END:VEVENT
END:VCALENDAR