BEGIN:VCALENDAR
VERSION:2.0
PRODID:-//WOODSY - ECPv6.15.20//NONSGML v1.0//EN
CALSCALE:GREGORIAN
METHOD:PUBLISH
X-ORIGINAL-URL:https://woodsy.llc
X-WR-CALDESC:Events for WOODSY
REFRESH-INTERVAL;VALUE=DURATION:PT1H
X-Robots-Tag:noindex
X-PUBLISHED-TTL:PT1H
BEGIN:VTIMEZONE
TZID:America/Halifax
BEGIN:DAYLIGHT
TZOFFSETFROM:-0400
TZOFFSETTO:-0300
TZNAME:ADT
DTSTART:20240310T060000
END:DAYLIGHT
BEGIN:STANDARD
TZOFFSETFROM:-0300
TZOFFSETTO:-0400
TZNAME:AST
DTSTART:20241103T050000
END:STANDARD
BEGIN:DAYLIGHT
TZOFFSETFROM:-0400
TZOFFSETTO:-0300
TZNAME:ADT
DTSTART:20250309T060000
END:DAYLIGHT
BEGIN:STANDARD
TZOFFSETFROM:-0300
TZOFFSETTO:-0400
TZNAME:AST
DTSTART:20251102T050000
END:STANDARD
BEGIN:DAYLIGHT
TZOFFSETFROM:-0400
TZOFFSETTO:-0300
TZNAME:ADT
DTSTART:20260308T060000
END:DAYLIGHT
BEGIN:STANDARD
TZOFFSETFROM:-0300
TZOFFSETTO:-0400
TZNAME:AST
DTSTART:20261101T050000
END:STANDARD
END:VTIMEZONE
BEGIN:VEVENT
DTSTART;TZID=America/Halifax:20251007T000000
DTEND;TZID=America/Halifax:20251007T235959
DTSTAMP:20260425T180708
CREATED:20250321T174404Z
LAST-MODIFIED:20250321T174404Z
UID:24356-1759795200-1759881599@woodsy.llc
SUMMARY:Book Release: BEDLAM
DESCRIPTION:Celebrate the official release of BEDLAM\, the debut novel from Robert D. Alexander-Jordan. Set in a near-future\, post-calamity America\, BEDLAM follows four unlikely heroes—each with their own secrets and scars—as they navigate the ruins of a broken nation and rise to shape a new Black-led society from the ashes. \nBlending speculative fiction\, political intrigue\, and deeply human storytelling\, BEDLAM is a powerful exploration of resilience\, legacy\, and the cost of revolution. \nAvailable — in e-book and Paperback—wherever books are sold.
URL:https://woodsy.llc/event/book-release-bedlam/
LOCATION:WOODSY Manor\, 9377 Vaughan St\, Detroit\, MI\, 48228\, United States
CATEGORIES:Hazelwood Press
ATTACH;FMTTYPE=image/png:https://woodsy.llc/wp-content/uploads/2025/03/Bedlam-user-preview.png
ORGANIZER;CN="WOODSY%2C LLC.":MAILTO:info@woodsy.llc
END:VEVENT
BEGIN:VEVENT
DTSTART;TZID=America/Halifax:20250501T000000
DTEND;TZID=America/Halifax:20250501T235959
DTSTAMP:20260425T180708
CREATED:20250321T173718Z
LAST-MODIFIED:20250321T173718Z
UID:24350-1746057600-1746143999@woodsy.llc
SUMMARY:Book Release: Growing Up Motor City
DESCRIPTION:Join us as we officially release Growing Up Motor City — a powerful\, reflective\, and unapologetically honest exploration of coming of age in Detroit. Through vivid storytelling\, personal essays\, and sharp cultural critique\, author Robert D. Alexander-Jordan captures the heartbeats of a city that raised him and the lessons learned along the way. \nWhether you’re a Detroiter by birth\, by spirit\, or by admiration\, this book invites you to experience the grit\, the grind\, and the glory of growing up in the Motor City. \nCelebrate the launch with us on May 1st — special release-day bonuses\, community reading circles\, and behind-the-scenes content will be available at www.woodsy.llc and @thewoodsyllc on all social platforms. \nDon’t just read the story—live it
URL:https://woodsy.llc/event/book-release-growing-up-motor-city/
LOCATION:WOODSY Manor\, 9377 Vaughan St\, Detroit\, MI\, 48228\, United States
CATEGORIES:Hazelwood Press
ATTACH;FMTTYPE=image/png:https://woodsy.llc/wp-content/uploads/2025/03/Growing-Up-Motor-City-Life-Laughter-and-Lessons-from-Detroit-user-preview.png
ORGANIZER;CN="WOODSY%2C LLC.":MAILTO:info@woodsy.llc
END:VEVENT
BEGIN:VEVENT
DTSTART;TZID=America/Halifax:20250323T000000
DTEND;TZID=America/Halifax:20250329T235959
DTSTAMP:20260425T180708
CREATED:20250321T173102Z
LAST-MODIFIED:20250321T173102Z
UID:24347-1742688000-1743292799@woodsy.llc
SUMMARY:Book Rerelease Week – A New Chapter Begins!
DESCRIPTION:As I grow\, we grow. I’m thrilled to announce that all of my previously released titles will be rereleased with new content\, updated insights\, and expanded reflections—just in time to kick off a bold new season of storytelling. \nThis moment marks more than a rerelease—it’s a recommitment to the journey\, to growth\, and to sharing work that evolves alongside the writer behind it. These refreshed offerings are a gift from my pen to your hands as we prepare for the debut of my first novel this October. \nLet this be the spark that reignites your shelf\, your soul\, and your story. \nWelcome to the new era of WOODSY and Hazelwood Press.Let’s read\, reimagine\, and rise—together. \n#WOODSY #HazelwoodPress #BookRereleaseDay #NewSeasonNewStories
URL:https://woodsy.llc/event/book-rerelease-week-a-new-chapter-begins/
LOCATION:WOODSY Manor\, 9377 Vaughan St\, Detroit\, MI\, 48228\, United States
CATEGORIES:Hazelwood Press
ATTACH;FMTTYPE=image/webp:https://woodsy.llc/wp-content/uploads/2025/03/books-on-shelf.webp
ORGANIZER;CN="WOODSY%2C LLC.":MAILTO:info@woodsy.llc
END:VEVENT
END:VCALENDAR