BEGIN:VCALENDAR
VERSION:2.0
PRODID:-//WOODSY - ECPv6.15.20//NONSGML v1.0//EN
CALSCALE:GREGORIAN
METHOD:PUBLISH
X-WR-CALNAME:WOODSY
X-ORIGINAL-URL:https://woodsy.llc
X-WR-CALDESC:Events for WOODSY
REFRESH-INTERVAL;VALUE=DURATION:PT1H
X-Robots-Tag:noindex
X-PUBLISHED-TTL:PT1H
BEGIN:VTIMEZONE
TZID:America/Halifax
BEGIN:DAYLIGHT
TZOFFSETFROM:-0400
TZOFFSETTO:-0300
TZNAME:ADT
DTSTART:20230312T060000
END:DAYLIGHT
BEGIN:STANDARD
TZOFFSETFROM:-0300
TZOFFSETTO:-0400
TZNAME:AST
DTSTART:20231105T050000
END:STANDARD
BEGIN:DAYLIGHT
TZOFFSETFROM:-0400
TZOFFSETTO:-0300
TZNAME:ADT
DTSTART:20240310T060000
END:DAYLIGHT
BEGIN:STANDARD
TZOFFSETFROM:-0300
TZOFFSETTO:-0400
TZNAME:AST
DTSTART:20241103T050000
END:STANDARD
BEGIN:DAYLIGHT
TZOFFSETFROM:-0400
TZOFFSETTO:-0300
TZNAME:ADT
DTSTART:20250309T060000
END:DAYLIGHT
BEGIN:STANDARD
TZOFFSETFROM:-0300
TZOFFSETTO:-0400
TZNAME:AST
DTSTART:20251102T050000
END:STANDARD
BEGIN:DAYLIGHT
TZOFFSETFROM:-0400
TZOFFSETTO:-0300
TZNAME:ADT
DTSTART:20260308T060000
END:DAYLIGHT
BEGIN:STANDARD
TZOFFSETFROM:-0300
TZOFFSETTO:-0400
TZNAME:AST
DTSTART:20261101T050000
END:STANDARD
END:VTIMEZONE
BEGIN:VEVENT
DTSTART;TZID=America/Halifax:20250703T000000
DTEND;TZID=America/Halifax:20250706T235959
DTSTAMP:20260425T213904
CREATED:20250506T212418Z
LAST-MODIFIED:20250506T212418Z
UID:25097-1751500800-1751846399@woodsy.llc
SUMMARY:WOODSY @ Essence Fest '25
DESCRIPTION:WOODSY is headed to Essence Festival of Culture 2025—and trust me\, you’ll want to follow along for all the fun\, the foolishness\, and the unforgettable moments! \nFrom July 3–6\, New Orleans transforms into the ultimate celebration of Black excellence\, culture\, music\, and empowerment. Essence Fest ’25 promises iconic performances\, dynamic panels\, and a star-studded guest list. Past festivals have featured legends like Janet Jackson\, Lauryn Hill\, Megan Thee Stallion\, Issa Rae\, and Vice President Kamala Harris—and this year’s lineup is expected to be just as electric. \nI’ll be soaking it all in—Black joy in abundance\, thought-provoking conversations\, and maybe a few too many beignets. \nFollow me on all socials @thewoodsyllc and @officialdr.bob to see the behind-the-scenes\, the vibes\, the outfits\, and maybe even a few surprises. \nWant to learn more or plan your own trip? Visit: https://www.essence.com/festival2025 \nLet’s make some memories\, WOODSY-style!
URL:https://woodsy.llc/event/woodsy-essence-fest-25/
LOCATION:New Orleans\, New Orleans\, LA\, United States
CATEGORIES:Hunnit Dolla'Weekends
ATTACH;FMTTYPE=image/png:https://woodsy.llc/wp-content/uploads/2025/05/EssenceFest25.png
END:VEVENT
BEGIN:VEVENT
DTSTART;TZID=America/Halifax:20240601T000000
DTEND;TZID=America/Halifax:20240603T235959
DTSTAMP:20260425T213904
CREATED:20240705T002941Z
LAST-MODIFIED:20250407T123557Z
UID:24208-1717200000-1717459199@woodsy.llc
SUMMARY:Hunnit Dolla'Weekend: NYC/NJ
DESCRIPTION:Hunnit Dolla’Weekend Getaway!
URL:https://woodsy.llc/event/hdv-nycnj/
LOCATION:WOODSY Manor\, 9377 Vaughan St\, Detroit\, MI\, 48228\, United States
CATEGORIES:Hunnit Dolla'Weekends
ORGANIZER;CN="WOODSY%2C LLC.":MAILTO:info@woodsy.llc
END:VEVENT
END:VCALENDAR