BEGIN:VCALENDAR
VERSION:2.0
PRODID:-//WOODSY - ECPv6.15.20//NONSGML v1.0//EN
CALSCALE:GREGORIAN
METHOD:PUBLISH
X-ORIGINAL-URL:https://woodsy.llc
X-WR-CALDESC:Events for WOODSY
REFRESH-INTERVAL;VALUE=DURATION:PT1H
X-Robots-Tag:noindex
X-PUBLISHED-TTL:PT1H
BEGIN:VTIMEZONE
TZID:America/Halifax
BEGIN:DAYLIGHT
TZOFFSETFROM:-0400
TZOFFSETTO:-0300
TZNAME:ADT
DTSTART:20240310T060000
END:DAYLIGHT
BEGIN:STANDARD
TZOFFSETFROM:-0300
TZOFFSETTO:-0400
TZNAME:AST
DTSTART:20241103T050000
END:STANDARD
BEGIN:DAYLIGHT
TZOFFSETFROM:-0400
TZOFFSETTO:-0300
TZNAME:ADT
DTSTART:20250309T060000
END:DAYLIGHT
BEGIN:STANDARD
TZOFFSETFROM:-0300
TZOFFSETTO:-0400
TZNAME:AST
DTSTART:20251102T050000
END:STANDARD
BEGIN:DAYLIGHT
TZOFFSETFROM:-0400
TZOFFSETTO:-0300
TZNAME:ADT
DTSTART:20260308T060000
END:DAYLIGHT
BEGIN:STANDARD
TZOFFSETFROM:-0300
TZOFFSETTO:-0400
TZNAME:AST
DTSTART:20261101T050000
END:STANDARD
END:VTIMEZONE
BEGIN:VEVENT
DTSTART;TZID=America/Halifax:20250823T140000
DTEND;TZID=America/Halifax:20250823T170000
DTSTAMP:20260425T180709
CREATED:20250720T175014Z
LAST-MODIFIED:20250720T175014Z
UID:25167-1755957600-1755968400@woodsy.llc
SUMMARY:Sailing with Sugga
DESCRIPTION:Detroit Cycle Boat. August 23. 2:00 PM. $35.00. A waiver. A vibe. \nIf you went last year\, you already know\, it was laughs\, playlists\, and a little bit of shoulder work. This year? We’re turning it up a notch. \nSpots are limited\, so secure yours early and get ready to sail with the WOODSY fam. Adults only. BYOB. Good energy required. \nFor more information\, call 313-473-7369. \nCashApp $1MsJordan
URL:https://woodsy.llc/event/sailing-with-sugga/
LOCATION:Detroit Cycle Boat\, 150 Old St Jean St\, Detroit\, MI\, 48214\, United States
CATEGORIES:Sugga
ATTACH;FMTTYPE=image/webp:https://woodsy.llc/wp-content/uploads/2025/07/IMG_6483.webp
ORGANIZER;CN="Sugga":MAILTO:#
END:VEVENT
END:VCALENDAR