BEGIN:VCALENDAR
VERSION:2.0
PRODID:-//WOODSY - ECPv6.15.20//NONSGML v1.0//EN
CALSCALE:GREGORIAN
METHOD:PUBLISH
X-ORIGINAL-URL:https://woodsy.llc
X-WR-CALDESC:Events for WOODSY
REFRESH-INTERVAL;VALUE=DURATION:PT1H
X-Robots-Tag:noindex
X-PUBLISHED-TTL:PT1H
BEGIN:VTIMEZONE
TZID:America/Halifax
BEGIN:DAYLIGHT
TZOFFSETFROM:-0400
TZOFFSETTO:-0300
TZNAME:ADT
DTSTART:20230312T060000
END:DAYLIGHT
BEGIN:STANDARD
TZOFFSETFROM:-0300
TZOFFSETTO:-0400
TZNAME:AST
DTSTART:20231105T050000
END:STANDARD
BEGIN:DAYLIGHT
TZOFFSETFROM:-0400
TZOFFSETTO:-0300
TZNAME:ADT
DTSTART:20240310T060000
END:DAYLIGHT
BEGIN:STANDARD
TZOFFSETFROM:-0300
TZOFFSETTO:-0400
TZNAME:AST
DTSTART:20241103T050000
END:STANDARD
BEGIN:DAYLIGHT
TZOFFSETFROM:-0400
TZOFFSETTO:-0300
TZNAME:ADT
DTSTART:20250309T060000
END:DAYLIGHT
BEGIN:STANDARD
TZOFFSETFROM:-0300
TZOFFSETTO:-0400
TZNAME:AST
DTSTART:20251102T050000
END:STANDARD
BEGIN:DAYLIGHT
TZOFFSETFROM:-0400
TZOFFSETTO:-0300
TZNAME:ADT
DTSTART:20260308T060000
END:DAYLIGHT
BEGIN:STANDARD
TZOFFSETFROM:-0300
TZOFFSETTO:-0400
TZNAME:AST
DTSTART:20261101T050000
END:STANDARD
END:VTIMEZONE
BEGIN:VEVENT
DTSTART;TZID=America/Halifax:20251007T000000
DTEND;TZID=America/Halifax:20251007T235959
DTSTAMP:20260425T145025
CREATED:20250321T174404Z
LAST-MODIFIED:20250321T174404Z
UID:24356-1759795200-1759881599@woodsy.llc
SUMMARY:Book Release: BEDLAM
DESCRIPTION:Celebrate the official release of BEDLAM\, the debut novel from Robert D. Alexander-Jordan. Set in a near-future\, post-calamity America\, BEDLAM follows four unlikely heroes—each with their own secrets and scars—as they navigate the ruins of a broken nation and rise to shape a new Black-led society from the ashes. \nBlending speculative fiction\, political intrigue\, and deeply human storytelling\, BEDLAM is a powerful exploration of resilience\, legacy\, and the cost of revolution. \nAvailable — in e-book and Paperback—wherever books are sold.
URL:https://woodsy.llc/event/book-release-bedlam/
LOCATION:WOODSY Manor\, 9377 Vaughan St\, Detroit\, MI\, 48228\, United States
CATEGORIES:Hazelwood Press
ATTACH;FMTTYPE=image/png:https://woodsy.llc/wp-content/uploads/2025/03/Bedlam-user-preview.png
ORGANIZER;CN="WOODSY%2C LLC.":MAILTO:info@woodsy.llc
END:VEVENT
BEGIN:VEVENT
DTSTART;TZID=America/Halifax:20250910T050000
DTEND;TZID=America/Halifax:20250910T193000
DTSTAMP:20260425T145025
CREATED:20250720T171327Z
LAST-MODIFIED:20250720T171327Z
UID:25163-1757480400-1757532600@woodsy.llc
SUMMARY:Annual Shipshewana Trip
DESCRIPTION:FEMA Ministry Day Trip to Shipshewana\, Indiana\nWednesday\, September 10\, 2025 \nThe FEMA Ministry is planning a special day trip to Shipshewana\, Indiana\, home of the legendary Shipshewana Flea Market and a charming variety of shops\, eats\, and experiences. Whether you’re on the hunt for unique finds or just want a relaxing day out with good people\, this is your invitation to join us! \n\nTrip Cost: $90 per person \nIncludes:\n✔️ Roundtrip deluxe motorcoach transportation\n✔️ On-coach snacks & games\n✔️ A day of fun\, shopping\, and fellowship \nAll participants must sign a Waiver of Liability before traveling. \nPayment Schedule:\n• $55 non-refundable deposit due by July 6\, 2025\n• $35 balance due by August 6\, 2025\nDeposits are non-refundable\, but substitutions are allowed if you can no longer attend. \n\nPreliminary Itinerary – September 10\, 2025 \n\n5:00 AM – Check-in begins at 6340 Stearns St.\, Detroit\, MI\n5:30 AM – FEMA Ministry team boards to prepare\n5:45 AM – Travelers board motorcoach\n5:55 AM – Welcome\, prayer\, and driver remarks\n6:00 AM – Depart for Shipshewana\n10:00 AM – Arrive at Shipshewana Flea Market\n10:15 AM–3:30 PM – Explore\, shop\, eat\, and enjoy\n3:45 PM – Load up for return\n4:00 PM – Depart Shipshewana\n7:00 PM – Return to St. Charles Lwanga Church parking lot\n\n\nInterested?\nPlease email me at info@woodsy.llc  \nWe hope to see you aboard for this unforgettable day trip.
URL:https://woodsy.llc/event/annual-shipshewana-trip/
LOCATION:6340 Stearns St.\, 6340 Stearns St.\, Detroit\, MI\, United States
ATTACH;FMTTYPE=image/webp:https://woodsy.llc/wp-content/uploads/2025/07/Shipshewana-Trip.webp
END:VEVENT
BEGIN:VEVENT
DTSTART;TZID=America/Halifax:20250823T140000
DTEND;TZID=America/Halifax:20250823T170000
DTSTAMP:20260425T145025
CREATED:20250720T175014Z
LAST-MODIFIED:20250720T175014Z
UID:25167-1755957600-1755968400@woodsy.llc
SUMMARY:Sailing with Sugga
DESCRIPTION:Detroit Cycle Boat. August 23. 2:00 PM. $35.00. A waiver. A vibe. \nIf you went last year\, you already know\, it was laughs\, playlists\, and a little bit of shoulder work. This year? We’re turning it up a notch. \nSpots are limited\, so secure yours early and get ready to sail with the WOODSY fam. Adults only. BYOB. Good energy required. \nFor more information\, call 313-473-7369. \nCashApp $1MsJordan
URL:https://woodsy.llc/event/sailing-with-sugga/
LOCATION:Detroit Cycle Boat\, 150 Old St Jean St\, Detroit\, MI\, 48214\, United States
CATEGORIES:Sugga
ATTACH;FMTTYPE=image/webp:https://woodsy.llc/wp-content/uploads/2025/07/IMG_6483.webp
ORGANIZER;CN="Sugga":MAILTO:#
END:VEVENT
BEGIN:VEVENT
DTSTART;TZID=America/Halifax:20250727T070000
DTEND;TZID=America/Halifax:20250727T180000
DTSTAMP:20260425T145025
CREATED:20250720T170119Z
LAST-MODIFIED:20250720T170119Z
UID:25159-1753599600-1753639200@woodsy.llc
SUMMARY:Annual Cedar Point Trip – Adults Only!
DESCRIPTION:Date: Sunday\, July 27\, 2025Departure: 7:00 AM sharp from Henry Ford Centennial LibraryReturn: Leaving the park at 4:00 PM \nGet ready for a full day of thrills\, fun\, and memories as we hit the road for our annual Cedar Point trip! This adults-only adventure includes transportation\, food\, snacks\, games\, and prizes—all for just $90 (due by 7/25/2025 via CashApp: $1MsJordan). \n‼️ Note: Cedar Point is now CASHLESS and SMOKE-FREE—plan accordingly. \n📞 For more info\, contact: 313-473-7369 \nCome celebrate summer\, friendship\, and the return of this unforgettable tradition. Whether you’re a roller coaster fanatic or just down for a good time\, you don’t want to miss this. \nWe’re going again… You coming?
URL:https://woodsy.llc/event/annual-cedar-point-trip-adults-only/
LOCATION:Henry Ford Centennial Libray\, 16301 Michigan Ave.\, Dearborn\, MI\, 48126\, United States
ATTACH;FMTTYPE=image/webp:https://woodsy.llc/wp-content/uploads/2025/07/519677919_1556282148753543_1798538281835761189_n.webp
ORGANIZER;CN="Sugga":MAILTO:#
END:VEVENT
BEGIN:VEVENT
DTSTART;TZID=America/Halifax:20250703T000000
DTEND;TZID=America/Halifax:20250706T235959
DTSTAMP:20260425T145025
CREATED:20250506T212418Z
LAST-MODIFIED:20250506T212418Z
UID:25097-1751500800-1751846399@woodsy.llc
SUMMARY:WOODSY @ Essence Fest '25
DESCRIPTION:WOODSY is headed to Essence Festival of Culture 2025—and trust me\, you’ll want to follow along for all the fun\, the foolishness\, and the unforgettable moments! \nFrom July 3–6\, New Orleans transforms into the ultimate celebration of Black excellence\, culture\, music\, and empowerment. Essence Fest ’25 promises iconic performances\, dynamic panels\, and a star-studded guest list. Past festivals have featured legends like Janet Jackson\, Lauryn Hill\, Megan Thee Stallion\, Issa Rae\, and Vice President Kamala Harris—and this year’s lineup is expected to be just as electric. \nI’ll be soaking it all in—Black joy in abundance\, thought-provoking conversations\, and maybe a few too many beignets. \nFollow me on all socials @thewoodsyllc and @officialdr.bob to see the behind-the-scenes\, the vibes\, the outfits\, and maybe even a few surprises. \nWant to learn more or plan your own trip? Visit: https://www.essence.com/festival2025 \nLet’s make some memories\, WOODSY-style!
URL:https://woodsy.llc/event/woodsy-essence-fest-25/
LOCATION:New Orleans\, New Orleans\, LA\, United States
CATEGORIES:Hunnit Dolla'Weekends
ATTACH;FMTTYPE=image/png:https://woodsy.llc/wp-content/uploads/2025/05/EssenceFest25.png
END:VEVENT
BEGIN:VEVENT
DTSTART;TZID=America/Halifax:20250621T120000
DTEND;TZID=America/Halifax:20250621T170000
DTSTAMP:20260425T145025
CREATED:20250407T171517Z
LAST-MODIFIED:20250407T171757Z
UID:24941-1750507200-1750525200@woodsy.llc
SUMMARY:DBC Juneteenth Book Music Art Fair 2025
DESCRIPTION:This exciting one-day “OUTDOOR” event is for the entire family celebrating “FREEDOM” in the expression of books\, music\, art & spoken word. \nSpectators will shop over 40 Exhibitors — a fierce group of talented ‘neighborhood’ indie book authors\, artists and artisans i.e. books\, paintings\, music\, drawings\, ceramics\, clothing\, candles\, soaps\, skincare\, jewelry\, plants\, houseware and more! \nLIVE Storytelling:  Celebrated storytellers and spoken-word artists will share folktales from Africa and the African Diaspora that focus on Juneteenth ~ Intellectual Literacy = Freedom! Authors and attendees are invited to share their stories starting at 1:30pm. \nLIVE Music & Youth Marching Band: Enjoy old-school\, nostalgic music by DJ Holly and an enchanting afternoon with Inkster’s American International Academy – District Youth String Ensemble\, Hand Chime Choir and Marching Band! \nKIDZONE:  Juneteenth storytelling\, face-painting\, bookmarks\, silicone wristbands and FUN coloring activity. FREE ice cream! \nJuneteenth Souvenirs: T-shirts\, necklaces and books will be on sale. \nThe Commons Cafe:  Grab a bite to eat or drink at this wonderful neighborhood corner cafe! \nWe’re so excited to have you join us to celebrate and sell your gift(s) during the nation’s Juneteenth 2025!  We are about uplifting Black literature & The Arts right in the neighborhood.
URL:https://woodsy.llc/event/dbc-juneteenth-book-music-art-fair-2025/
LOCATION:The Commons – MACC Development\, 7900 Mack Ave\, Detroit\, MI\, 48214\, United States
CATEGORIES:Exhibitions
ATTACH;FMTTYPE=image/jpeg:https://woodsy.llc/wp-content/uploads/2025/04/dbc-juneteenth.jpg
ORGANIZER;CN="WOODSY%2C LLC.":MAILTO:info@woodsy.llc
END:VEVENT
BEGIN:VEVENT
DTSTART;TZID=America/Halifax:20250615T000000
DTEND;TZID=America/Halifax:20250615T235959
DTSTAMP:20260425T145025
CREATED:20250506T204725Z
LAST-MODIFIED:20250508T185432Z
UID:25091-1749945600-1750031999@woodsy.llc
SUMMARY:Screening: Juneteenth: Faith & Freedom
DESCRIPTION:Join us for a powerful film screening and interactive Q&A of ‘Juneteenth: Faith & Freedom’ on Sunday\, June 15th. \nThis feature-length documentary follows a deeply personal journey as one man grapples with the legacy of American slavery and the complex relationship between faith and freedom. Traveling across Texas\, he uncovers the roots of the Juneteenth holiday and explores the resilience\, hope\, and courage of the formerly enslaved and their descendants. \nFollowing the 175-minute screening\, we will host a brief interactive Q&A to reflect on the film’s themes and their continued relevance today. \nThis event is presented in collaboration with WOODSY\, LLC.\, the Church of the Messiah Housing Corp.\, and the Church of the Messiah Detroit. \nSeating is limited.
URL:https://woodsy.llc/event/screening-juneteenth-faith-freedom/
LOCATION:Church of the Mesiiah\, 231 E. Grand Blvd.\, Detroit\, 48207\, United States
CATEGORIES:At the Movies,Black Everywhere - Detroit
ATTACH;FMTTYPE=image/png:https://woodsy.llc/wp-content/uploads/2025/05/236b58d94c94353a2893ff95a87e6731-1176090740.png
ORGANIZER;CN="WOODSY%2C LLC.":MAILTO:info@woodsy.llc
END:VEVENT
BEGIN:VEVENT
DTSTART;TZID=America/Halifax:20250614T160000
DTEND;TZID=America/Halifax:20250614T180000
DTSTAMP:20260425T145025
CREATED:20240704T205742Z
LAST-MODIFIED:20250407T123503Z
UID:24192-1749916800-1749924000@woodsy.llc
SUMMARY:Game Night Series
DESCRIPTION:Get Ready for an Epic Game Night Series! \nJoin us for an unforgettable evening filled with laughter\, drinks\, delicious food\, and extraordinary fun! Brought to you by Black Everywhere – Detroit x WOODSY\, LLC.\, our Game Night series is the perfect way to gather with friends and family for an amazing time. \nWhat’s On the Menu? We’ll have a simple walking menu to keep you energized throughout the night. No need to worry about food\, plates\, cups\, or napkins – we’ve got it all covered! Just bring a bottle to share\, and let’s toast to good times! \nMore Than Just the Classics! Sure\, we love UNO\, Spades\, and Tunk\, but we’re bringing you a collection of games you might have never heard of or haven’t played in ages. From unique card games to exciting board games\, each night will feature a different lineup to keep things fresh and exciting. \nMark Your Calendars: Join us for an evening of endless laughter\, fun games\, great food\, and awesome company. \nRSVP Today! Don’t miss out on the ultimate game night experience. Let’s make memories that will last a lifetime! See you there! \nTo cover food and incidentals\, please send $5 to $thewoodsyllc on cashapp. \n#WOODSYLLC #GameNightSeries #FunWithFriends #UnforgettableEvening
URL:https://woodsy.llc/event/game-night-series/
LOCATION:STEM Innovation Learning Center\, 5048 Gullen Mall\, Room 112\, Detroit\, MI\, 48202\, United States
CATEGORIES:Game Night Series
ATTACH;FMTTYPE=image/png:https://woodsy.llc/wp-content/uploads/2024/07/ChatGPT-Image-Apr-6-2025-07_49_47-PM.png
ORGANIZER;CN="WOODSY%2C LLC.":MAILTO:info@woodsy.llc
END:VEVENT
BEGIN:VEVENT
DTSTART;TZID=America/Halifax:20250517T160000
DTEND;TZID=America/Halifax:20250517T180000
DTSTAMP:20260425T145025
CREATED:20240704T230124Z
LAST-MODIFIED:20250407T145128Z
UID:24196-1747497600-1747504800@woodsy.llc
SUMMARY:Creativity Nights Series
DESCRIPTION:Join Us for our Creativity Nights Series! \nUnleash your inner artist and join us for an unforgettable evening of creativity\, laughter\, and fun! Whether it’s coloring\, scrapbooking\, decorating cookies\, or producing music\, there’s something for everyone. Each night features different creative prompts to kick things off\, ensuring a fresh and exciting experience every time. \nOur first theme is art&soul. \nWhat to Expect: \n\nFun creative activities\nDelicious food and snacks\nLively conversation and laughs\nA simple walking menu\nAll plates\, cups\, napkins\, and other essentials provided\n\nCome join us for an extraordinary evening that will unlock your creative side and help you discover new skills you never knew you had. Don’t miss out on the fun—mark your calendars and get ready to be inspired! \nTo cover food and incidentals\, please send $5 to $thewoodsyllc on cashapp. \nRSVP Today!
URL:https://woodsy.llc/event/creativity-nights-series/
LOCATION:STEM Innovation Learning Center\, 5048 Gullen Mall\, Room 112\, Detroit\, MI\, 48202\, United States
CATEGORIES:Creativity Nights Series
ATTACH;FMTTYPE=image/png:https://woodsy.llc/wp-content/uploads/2024/07/ChatGPT-Image-Apr-6-2025-07_36_20-PM.png
ORGANIZER;CN="WOODSY%2C LLC.":MAILTO:info@woodsy.llc
END:VEVENT
BEGIN:VEVENT
DTSTART;TZID=America/Halifax:20250501T000000
DTEND;TZID=America/Halifax:20250501T235959
DTSTAMP:20260425T145025
CREATED:20250321T173718Z
LAST-MODIFIED:20250321T173718Z
UID:24350-1746057600-1746143999@woodsy.llc
SUMMARY:Book Release: Growing Up Motor City
DESCRIPTION:Join us as we officially release Growing Up Motor City — a powerful\, reflective\, and unapologetically honest exploration of coming of age in Detroit. Through vivid storytelling\, personal essays\, and sharp cultural critique\, author Robert D. Alexander-Jordan captures the heartbeats of a city that raised him and the lessons learned along the way. \nWhether you’re a Detroiter by birth\, by spirit\, or by admiration\, this book invites you to experience the grit\, the grind\, and the glory of growing up in the Motor City. \nCelebrate the launch with us on May 1st — special release-day bonuses\, community reading circles\, and behind-the-scenes content will be available at www.woodsy.llc and @thewoodsyllc on all social platforms. \nDon’t just read the story—live it
URL:https://woodsy.llc/event/book-release-growing-up-motor-city/
LOCATION:WOODSY Manor\, 9377 Vaughan St\, Detroit\, MI\, 48228\, United States
CATEGORIES:Hazelwood Press
ATTACH;FMTTYPE=image/png:https://woodsy.llc/wp-content/uploads/2025/03/Growing-Up-Motor-City-Life-Laughter-and-Lessons-from-Detroit-user-preview.png
ORGANIZER;CN="WOODSY%2C LLC.":MAILTO:info@woodsy.llc
END:VEVENT
BEGIN:VEVENT
DTSTART;TZID=America/Halifax:20250422T183000
DTEND;TZID=America/Halifax:20250422T210000
DTSTAMP:20260425T145025
CREATED:20250406T222838Z
LAST-MODIFIED:20250406T223917Z
UID:24923-1745346600-1745355600@woodsy.llc
SUMMARY:Black Everywhere - Detroit: At the Movies – Sinners
DESCRIPTION:🎬 Black Everywhere Detroit Presents: At the Movies – Sinners📍 The Riviera Cinema\, 30170 Grand River Ave\, Farmington Hills\, MI 48336🗓️ Tuesday\, April 22\, 2025 | ⏰ 6:30 PM \nJoin Black Everywhere Detroit for a casual night out At the Movies as we head to The Riviera in Farmington Hills to watch Sinners — a film we know will spark some post-credit conversation. \nThis is not a group ticket event\, so each attendee is responsible for purchasing their own ticket through the venue or a ticketing app like Fandango or Atom. Seats may not be grouped together\, but the vibes will still be unified. ✨ \nWe are not coordinating concessions or planning a group outing before or after the screening — just pull up\, enjoy the film\, and maybe spot a few familiar faces in the crowd. \n🎟️ Tip: Get your ticket early to secure your preferred seat — showtime is at 6:30 PM sharp. \nLet’s show up\, support the arts\, and share space with community — even if we’re a few seats apart. \n#BlackEverywhere #DetroitChapter #AtTheMovies #SinnersFilm
URL:https://woodsy.llc/event/black-everywhere-at-the-movies-sinners/
LOCATION:The Riviera Cinema\, 30170 Grand River Ave\, Farmington Hills\, MI\, 48336\, United States
CATEGORIES:Black Everywhere - Detroit
ATTACH;FMTTYPE=image/jpeg:https://woodsy.llc/wp-content/uploads/2025/04/sinnersmovie1-1087615048.jpg
ORGANIZER;CN="Black Everywhere - Detroit":MAILTO:mr.robert@me.com
END:VEVENT
BEGIN:VEVENT
DTSTART;TZID=America/Halifax:20250323T000000
DTEND;TZID=America/Halifax:20250329T235959
DTSTAMP:20260425T145025
CREATED:20250321T173102Z
LAST-MODIFIED:20250321T173102Z
UID:24347-1742688000-1743292799@woodsy.llc
SUMMARY:Book Rerelease Week – A New Chapter Begins!
DESCRIPTION:As I grow\, we grow. I’m thrilled to announce that all of my previously released titles will be rereleased with new content\, updated insights\, and expanded reflections—just in time to kick off a bold new season of storytelling. \nThis moment marks more than a rerelease—it’s a recommitment to the journey\, to growth\, and to sharing work that evolves alongside the writer behind it. These refreshed offerings are a gift from my pen to your hands as we prepare for the debut of my first novel this October. \nLet this be the spark that reignites your shelf\, your soul\, and your story. \nWelcome to the new era of WOODSY and Hazelwood Press.Let’s read\, reimagine\, and rise—together. \n#WOODSY #HazelwoodPress #BookRereleaseDay #NewSeasonNewStories
URL:https://woodsy.llc/event/book-rerelease-week-a-new-chapter-begins/
LOCATION:WOODSY Manor\, 9377 Vaughan St\, Detroit\, MI\, 48228\, United States
CATEGORIES:Hazelwood Press
ATTACH;FMTTYPE=image/webp:https://woodsy.llc/wp-content/uploads/2025/03/books-on-shelf.webp
ORGANIZER;CN="WOODSY%2C LLC.":MAILTO:info@woodsy.llc
END:VEVENT
BEGIN:VEVENT
DTSTART;TZID=America/Halifax:20250125T110000
DTEND;TZID=America/Halifax:20250125T140000
DTSTAMP:20260425T145025
CREATED:20250109T181344Z
LAST-MODIFIED:20250109T181344Z
UID:24266-1737802800-1737813600@woodsy.llc
SUMMARY:Black Everywhere - Detroit: Roots & Revelations: Exploring Identity and Community
DESCRIPTION:Join Black Everywhere-Detroit for our inaugural event\, Roots & Revelations: Exploring Identity and Community\, as we celebrate art\, culture\, and connection in the heart of Detroit. \nWe’ll begin on Saturday\, January 25th\, at 11:00 AM at the Detroit Institute of Arts with an immersive tour of Tiff Massey: 7 Mile + Livernois\, an extraordinary exhibit that blends art\, history\, and community. Tiff Massey\, a Detroit native and internationally acclaimed artist\, uses her work to honor the rich legacy of Detroit’s Black business and fashion district while exploring themes of identity\, public space\, and ancestral beauty. As we tour Massey’s most ambitious museum installation to date\, we’ll reflect on the ways her work bridges art and community\, paying homage to West African and Black American culture and style. \nAfterward\, we’ll continue the conversation over a delicious meal at Baobab Fare\, a vibrant eatery that embodies the richness of Detroit’s international community. Co-owned by Hamissi Mamba and Nadia Nijimbere\, Baobab Fare invites us to experience the flavors\, stories\, and resilience of immigrants who have found a home in Detroit. Together\, we’ll dine\, connect\, and reflect on the intersections of identity\, culture\, and community. \nWhen: Saturday\, January 25th \n\n11:00 AM: Detroit Institute of Arts (Tiff Massey Exhibit Tour)\nFollowed by lunch at Baobab Fare\n\nWhere: \n\nDetroit Institute of Arts (Tiff Massey Exhibit Tour)\n5200 Woodward Ave\, Detroit\, MI 48202\nBaobab Fare (Food & Fellowship)\n6568 Woodward Ave\, Detroit\, MI 48202\n\nCost:\nGeneral admission to the DIA is always free for members and residents of Macomb\, Oakland\, and Wayne counties. Just present your ID at the front desk to receive your free admission! \nCome ready to celebrate Detroit’s artistry\, history\, and community while building connections with like-minded individuals. Space is limited\, so RSVP today! You will need to bring money for lunch at Baobab Fare\, if you decide to eat. \nLet’s explore\, reflect\, and grow together. We look forward to seeing you there!
URL:https://woodsy.llc/event/black-everywhere-detroit-roots-revelations-exploring-identity-and-community/
LOCATION:Detroit Institute of Arts\, 5200 Woodward Avenue\, Detroit\, 48202\, United States
CATEGORIES:Black Everywhere - Detroit
ATTACH;FMTTYPE=image/jpeg:https://woodsy.llc/wp-content/uploads/2025/01/be-detroit-event-001.jpg
ORGANIZER;CN="Black Everywhere - Detroit":MAILTO:mr.robert@me.com
END:VEVENT
BEGIN:VEVENT
DTSTART;TZID=America/Halifax:20240818T000000
DTEND;TZID=America/Halifax:20240824T235959
DTSTAMP:20260425T145025
CREATED:20240705T002311Z
LAST-MODIFIED:20250407T123519Z
UID:24198-1723939200-1724543999@woodsy.llc
SUMMARY:ANITA Birthday
DESCRIPTION:Shhhhh… it’s a secret.
URL:https://woodsy.llc/event/anita-birthday/
LOCATION:WOODSY Manor\, 9377 Vaughan St\, Detroit\, MI\, 48228\, United States
CATEGORIES:Birthday
ORGANIZER;CN="WOODSY%2C LLC.":MAILTO:info@woodsy.llc
END:VEVENT
BEGIN:VEVENT
DTSTART;TZID=America/Halifax:20240707T000000
DTEND;TZID=America/Halifax:20240713T235959
DTSTAMP:20260425T145025
CREATED:20240705T002453Z
LAST-MODIFIED:20250407T123529Z
UID:24200-1720310400-1720915199@woodsy.llc
SUMMARY:To Be A Kid Again — Robert's 40th Birthday Event
DESCRIPTION:Shhh… it’s a secret.
URL:https://woodsy.llc/event/to-be-a-kid-again-roberts-40th-birthday-event/
LOCATION:WOODSY Manor\, 9377 Vaughan St\, Detroit\, MI\, 48228\, United States
CATEGORIES:Birthday
ORGANIZER;CN="Sugga":MAILTO:#
END:VEVENT
BEGIN:VEVENT
DTSTART;TZID=America/Halifax:20240601T000000
DTEND;TZID=America/Halifax:20240603T235959
DTSTAMP:20260425T145025
CREATED:20240705T002941Z
LAST-MODIFIED:20250407T123557Z
UID:24208-1717200000-1717459199@woodsy.llc
SUMMARY:Hunnit Dolla'Weekend: NYC/NJ
DESCRIPTION:Hunnit Dolla’Weekend Getaway!
URL:https://woodsy.llc/event/hdv-nycnj/
LOCATION:WOODSY Manor\, 9377 Vaughan St\, Detroit\, MI\, 48228\, United States
CATEGORIES:Hunnit Dolla'Weekends
ORGANIZER;CN="WOODSY%2C LLC.":MAILTO:info@woodsy.llc
END:VEVENT
BEGIN:VEVENT
DTSTART;TZID=America/Halifax:20240516T170000
DTEND;TZID=America/Halifax:20240516T220000
DTSTAMP:20260425T145025
CREATED:20240705T002806Z
LAST-MODIFIED:20250407T123546Z
UID:24206-1715878800-1715896800@woodsy.llc
SUMMARY:Sugga's 60th Birthday Dinner @ Kola's Ultra Lounge
DESCRIPTION:Join us!
URL:https://woodsy.llc/event/suggas-60th-birthday-dinner-kolas-ultra-lounge/
LOCATION:WOODSY Manor\, 9377 Vaughan St\, Detroit\, MI\, 48228\, United States
CATEGORIES:Birthday
ORGANIZER;CN="WOODSY%2C LLC.":MAILTO:info@woodsy.llc
END:VEVENT
BEGIN:VEVENT
DTSTART;TZID=America/Halifax:20240509T000000
DTEND;TZID=America/Halifax:20240513T235959
DTSTAMP:20260425T145025
CREATED:20240705T002619Z
LAST-MODIFIED:20250407T123539Z
UID:24203-1715212800-1715644799@woodsy.llc
SUMMARY:Sugga's Sweet 60th Birthday in NOLA
DESCRIPTION:Shhh… it’s a secret.
URL:https://woodsy.llc/event/suggas-sweet-60th-birthday-in-nola/
LOCATION:WOODSY Manor\, 9377 Vaughan St\, Detroit\, MI\, 48228\, United States
CATEGORIES:Birthday
ORGANIZER;CN="WOODSY%2C LLC.":MAILTO:info@woodsy.llc
END:VEVENT
END:VCALENDAR